BEGIN:VCALENDAR
VERSION:2.0
PRODID:-//eventon.com NONSGML v1.0//EN
CALSCALE:GREGORIAN
METHOD:PUBLISH
BEGIN:VEVENT
UID:69e756dbd0cbb
DTSTAMP:20260421T105211Z
DTSTART:20260604T170000Z
DTEND:20260604T190000Z
LOCATION:
SUMMARY:Prix de l'alimentation\,  coûts pour la société et la planète
DESCRIPTION:L’association des Consom'acteurs des 7 Épis vous propose\,  
 le jeudi 4 juin\,  une conférence sur « L’injuste prix de notre aliment
 ation »\,  animé par Sylvain Le NY\,  cofondateur de la coopérative Basi
 c\,  à l’origine d’une étude sur le sujet. En complément de sa prés
 entation\,  une éleveuse\,  Marie-Eve Taillecours (Gaec Lait[..]\nhttps://
 www.biocoop-les7epis.bzh/evenements/linjuste-prix-de-notre-alimentation/
URL:https://www.biocoop-les7epis.bzh/evenements/linjuste-prix-de-notre-alimentation/
END:VEVENT
END:VCALENDAR