BEGIN:VCALENDAR
VERSION:2.0
PRODID:-//eventon.com NONSGML v1.0//EN
CALSCALE:GREGORIAN
METHOD:PUBLISH
BEGIN:VEVENT
UID:69ecdc08c7183
DTSTAMP:20260425T152144Z
DTSTART:20251209T150000Z
DTEND:20251209T180000Z
LOCATION:MarchÃ© bio de Lorient rue du Faouedic
SUMMARY:Avec votre assiette...Â ANNULÃ‰
DESCRIPTION:Les mauvaises conditions mÃ©tÃ©o annoncÃ©es (vents forts)\,  ob
 ligent Optim'ism Ã  annuler l'animation prÃ©vue ce mardi en ouverture de no
 tre semaine d'animation "anniversaire de la COP 21" Merci pour votre comprÃ
 ©hension &nbsp; Manger plus de lÃ©gumes\,  bio\,  de saison\,  en circuit c
 ourt\,  câ€™est moins dâ€™Ã©missions de CO2 car moins de transport\, [..]\n
 https://www.biocoop-les7epis.bzh/evenements/marche-bio-de-lorient/
URL:https://www.biocoop-les7epis.bzh/evenements/marche-bio-de-lorient/
END:VEVENT
END:VCALENDAR