BEGIN:VCALENDAR
VERSION:2.0
PRODID:-//eventon.com NONSGML v1.0//EN
CALSCALE:GREGORIAN
METHOD:PUBLISH
BEGIN:VEVENT
UID:69ecdb2f3db31
DTSTAMP:20260425T151807Z
DTSTART:20251210T173000Z
DTEND:20251210T225900Z
LOCATION:UBS Le Paquebot - Amphi Massisas 4 rue Jean Zay
SUMMARY:La méthanisation : bonne idée\,  mauvaises pratiques ?
DESCRIPTION:Présenté comme une solution d’avenir pour la transition én
 ergétique et la valorisation des déchets agricoles\,  la méthanisation s
 e développe rapidement en Bretagne. Mais derrière les promesses d’éner
 gie renouvelable\,  des interrogations émergent : dérives industrielles\,
   impacts sur les sols et l’eau\,  concentration des installations\,  mod
 ification des pratiques... Quels sont les véritables[..]\nhttps://www.bioc
 oop-les7epis.bzh/evenements/la-methanisation-bonne-idee-mauvaises-pratiques
 /
URL:https://www.biocoop-les7epis.bzh/evenements/la-methanisation-bonne-idee-mauvaises-pratiques/
END:VEVENT
END:VCALENDAR