BEGIN:VCALENDAR
VERSION:2.0
PRODID:-//eventon.com NONSGML v1.0//EN
CALSCALE:GREGORIAN
METHOD:PUBLISH
BEGIN:VEVENT
UID:69ecdadb6beb0
DTSTAMP:20260425T151643Z
DTSTART:20251211T100000Z
DTEND:20251211T225900Z
LOCATION:Cinéville - Lorient 4 Bd Maréchal Joffre\,  56100 Lorient
SUMMARY:Glaciers d'Arctique\,  état des lieux
DESCRIPTION:En Arctique\,  la faute au dérèglement climatique\,  la glace
  fond plus rapidement que ce qui était envisagé par les scientifiques. Le
  réalisateur Pierre Dugowson et la glaciologue Heïdi Sevestre nous emmèn
 ent sur les glaciers du Svalbard pour faire le point sur une situation dont
  les impacts concernent la planète entière.[..]\nhttps://www.biocoop-les7
 epis.bzh/evenements/glaciers-darctique-etat-des-lieux/
URL:https://www.biocoop-les7epis.bzh/evenements/glaciers-darctique-etat-des-lieux/
END:VEVENT
END:VCALENDAR