BEGIN:VCALENDAR
VERSION:2.0
PRODID:-//eventon.com NONSGML v1.0//EN
CALSCALE:GREGORIAN
METHOD:PUBLISH
BEGIN:VEVENT
UID:69ecdaa707648
DTSTAMP:20260425T151551Z
DTSTART:20251212
DTEND:20251213
LOCATION:La Colloc d&#039;en Face 51 avenue de la PÃ©rriÃ¨re
SUMMARY:CoopÃ©rons !
DESCRIPTION:Alors que lâ€™agriculture reprÃ©sente 40Â % des Ã©mission de ga
 z Ã  effets de serre en Bretagne\,  CohÃ©rence vous propose deux rendez-vou
 s. Une visite de ferme dans lâ€™aprÃ¨s-midi. Un moment dâ€™Ã©changes avec u
 n forum des coopÃ©rations sur le thÃ¨me Â«Â comment construire ensemble des
  politiques locales dâ€™alimentation et dâ€™agriculture durablesÂ ?Â Â». RÃ
 ©gie municipale agricole\, [..]\nhttps://www.biocoop-les7epis.bzh/evenement
 s/cooperons/
URL:https://www.biocoop-les7epis.bzh/evenements/cooperons/
END:VEVENT
END:VCALENDAR