BEGIN:VCALENDAR
VERSION:2.0
PRODID:-//eventon.com NONSGML v1.0//EN
CALSCALE:GREGORIAN
METHOD:PUBLISH
BEGIN:VEVENT
UID:69ecda87e9055
DTSTAMP:20260425T151519Z
DTSTART:20251213T100000Z
DTEND:20251213T225900Z
LOCATION:Maison Glaz Les Saisies
SUMMARY:JournÃ©e citoyenne\,  artistique et festive
DESCRIPTION:Ã€ lâ€™honneur\,  le pouvoir dâ€™agir des habitants et les nouv
 elles alliances Ã  construire avec lâ€™OcÃ©an et le vivant. Ici\,  sociÃ©tÃ
 © civile\,  artistes et scientifiques continuent dâ€™avancer\,  quels que s
 oient les rÃ©sultats des nÃ©gociations internationalesÂ ! De 11h Ã  13h30\,
   Maison Glaz\,  Le Fil de la Mer : masterclass ludique et participative[..
 ]\nhttps://www.biocoop-les7epis.bzh/evenements/journee-citoyenne-artistique
 -et-festive/
URL:https://www.biocoop-les7epis.bzh/evenements/journee-citoyenne-artistique-et-festive/
END:VEVENT
END:VCALENDAR