BEGIN:VCALENDAR
VERSION:2.0
PRODID:-//eventon.com NONSGML v1.0//EN
CALSCALE:GREGORIAN
METHOD:PUBLISH
BEGIN:VEVENT
UID:69ecd9d1efc5e
DTSTAMP:20260425T151217Z
DTSTART:20251214T160000Z
DTEND:20251214T225900Z
LOCATION:Le ManÃ¨ge 10 rue Colbert
SUMMARY:Le Convoi de lâ€™eauÂ - Film documentaire
DESCRIPTION:AprÃ¨s 12 ans d'itinÃ©rance dans le Pays de Lorient\,  J'ai Vu 
 un Doc (JVD) pose ses valises au ManÃ¨ge pour en refaire une salle de cinÃ©
 ma ! En clÃ´ture de notre festival\,  lâ€™association vous propose un docum
 entaire de RÃ©my Servais\,  Le Convoi de lâ€™eau. Â«Â Le 18 aoÃ»t 2023\,  Ã
   lâ€™appel[..]\nhttps://www.biocoop-les7epis.bzh/evenements/le-convoi-de-l
 eau/
URL:https://www.biocoop-les7epis.bzh/evenements/le-convoi-de-leau/
END:VEVENT
END:VCALENDAR